BEGIN:VCALENDAR
VERSION:2.0
PRODID:spatie/icalendar-generator
DESCRIPTION:Events from REX Shares
X-WR-CALDESC:Events from REX Shares
REFRESH-INTERVAL;VALUE=DURATION:PT1440M
X-PUBLISHED-TTL:PT1440M
BEGIN:VTIMEZONE
TZID:Etc/GMT+0
BEGIN:STANDARD
DTSTART:20250531T160000Z
TZOFFSETFROM:+0000
TZOFFSETTO:+0000
END:STANDARD
END:VTIMEZONE
BEGIN:VTIMEZONE
TZID:UTC
BEGIN:STANDARD
DTSTART:20250727T095910Z
TZOFFSETFROM:+0000
TZOFFSETTO:+0000
END:STANDARD
END:VTIMEZONE
BEGIN:VEVENT
UID:469-17
DTSTAMP:20260423T095910Z
SUMMARY:The Trade Desk Q4 Earnings
LOCATION:
ORGANIZER;CN=Matt Hazen:MAILTO:mhazen@rexshares.com
DTSTART;TZID=Etc/GMT+0:20260225T160000
DTEND;TZID=Etc/GMT+0:20260225T170000
X-ALT-DESC;FMTTYPE=TEXT/HTML:The Trade Desk reports earnings today after th
 e bell: Earnings per share est. $0.59 (+0.00% YoY) Revenue est. $841.87M (
 +13.61% YoY) Earnings can move markets- $TTDU offers 2x daily long exposur
 e to The Trade Desk\, from the T-REX Target ETF lineup. Click here for fun
 d details.
CATEGORIES:T-REX
URL;VALUE=URI:https://www.rexshares.com/mc-events/the-trade-desk-q4-earning
 s/
METHOD:PUBLISH
END:VEVENT
END:VCALENDAR